Workbook
Name \a: #N/A
Name \b: #N/A
Name \c: #N/A
Name \d: #N/A
Name \e: #N/A
Name \f: #N/A
Name \g: #N/A
Name \h: #N/A
Name \i: #N/A
Name \j: #N/A
Name \k: #N/A
Name \l: #N/A
Name \p: #N/A
Name \Q: [1]table!#REF!
Name \R: [1]table!#REF!
Name \Z: [1]table!#REF!
Name _____________CAR1: #N/A
Name _____________CAR2: #N/A
Name _____________CAR3: #N/A
Name _____________CAR4: #N/A
Name _____________CAR5: #N/A
Name ____________CAR1: #N/A
Name ____________CAR2: #N/A
Name ____________CAR3: #N/A
Name ____________CAR4: #N/A
Name ____________CAR5: #N/A
Name ___________CAR1: #N/A
Name ___________CAR2: #N/A
Name ___________CAR3: #N/A
Name ___________CAR4: #N/A
Name ___________CAR5: #N/A
Name __________CAR1: #N/A
Name __________CAR2: #N/A
Name __________CAR3: #N/A
Name __________CAR4: #N/A
Name __________CAR5: #N/A
Name _________CAR1: #N/A
Name _________CAR2: #N/A
Name _________CAR3: #N/A
Name _________CAR4: #N/A
Name _________CAR5: #N/A
Name ________CAR1: #N/A
Name ________CAR2: #N/A
Name ________CAR3: #N/A
Name ________CAR4: #N/A
Name ________CAR5: #N/A
Name _______CAR1: #N/A
Name _______CAR2: #N/A
Name _______CAR3: #N/A
Name _______CAR4: #N/A
Name _______CAR5: #N/A
Name ______CAR1: #N/A
Name ______CAR2: #N/A
Name ______CAR3: #N/A
Name ______CAR4: #N/A
Name ______CAR5: #N/A
Name _____CAR1: #N/A
Name _____CAR2: #N/A
Name _____CAR3: #N/A
Name _____CAR4: #N/A

Sheet Page couverture
G1: Protégé B une fois rempli
A3: Tableaux supplémentaires – Rapport de l'actuaire désigné (RAD)

Sheet Liste des tableaux supplément.
A1: Onglet | B1: Nom | C1: Objectif du tableau
A2: 00011 | B2: Nom de l’entité | C2: Dresser une liste des entités (filiales ou succursales) et attribuer un code numérique à chaque entité.
A3: 00012 | B3: Nom du portefeuille | C3: Dresser une liste des portefeuilles et attribuer un code numérique à chaque portefeuille.
A4: 00013 | B4: Catégorie de liquidité | C4: Dresser une liste des catégories de liquidité et attribuer un code numérique à chaque catégorie.
A5: 00014 | B5: Segment de l’actif | C5: Dresser une liste des segments de l’actif et attribuer un code numérique à chaque segment.
A6: 00015 | B6: Sous-compte de contrats avec participation | C6: Dresser une liste des sous-comptes de contrats avec participation et attribuer un code numérique à chaque sous-compte.
A7: 00001 | B7: Validation | C7: Recueillir des données visant à démontrer que les engagements actuariels figurant dans le Relevé des états financiers de base (LF1) correspondent à ceux indiqués dans les tableaux supplémentaires. Cette validation est essentielle pour repérer les incohérences et garantir l’exactitude des données déclarées.
A8: 21020 | B8: Passif ou actif consolidé au titre des contrats d’assurance (ou de réassurance) émis, des contrats de réassurance détenus et des contrats d’investissement avec participation discrétionnaire (PD), par portefeuille et par type de produit | C8: Consigner les éléments de passif au titre des contrats d’assurance, par portefeuille, selon l'IFRS 17.
A9: 21021 | B9: Niveau de confiance de l’ajustement au titre du risque non financier | C9: Consigner le niveau de confiance des ajustements au titre du risque à l’échelle de l’entité et sur une base précise (c’est-à-dire avant ou après déduction de la réassurance).
A10: 22010 | B10: Ajustement au titre du risque non financier par type de risque lorsque l’approche fondée sur la marge est utilisée | C10: Recueillir des précisions sur l’ajustement au titre du risque appliqué aux contrats d’assurance, aux contrats de réassurance émis et aux contrats de réassurance détenus lorsque l’approche fondée sur la marge est utilisée.
A11: 22020 | B11: Ajustement au titre du risque non financier lorsqu’une autre* méthode est utilisée (*autre que l’approche fondée sur la marge) | C11: Recueillir des précisions sur l’ajustement au titre du risque appliqué aux contrats d’assurance, aux contrats de réassurance émis et aux contrats de réassurance détenus lorsqu'une autre méthode que l’approche fondée sur la marge est utilisée pour calculer l’ajustement au titre du risque.
A12: 23010 | B12: Changements apportés aux hypothèses ou aux méthodes – hypothèses non financières | C12: Consigner l'effet des changements apportés aux hypothèses non financières sur les éléments de passif au titre des contrats d’assurance.
... A27: 71110 | B27: Versements aux actionnaires prélevés sur le compte de participation en vertu de l’article 461 de la Loi sur les sociétés d’assurances | C27: Consigner les versements aux actionnaires prélevés sur le compte de participation en vertu de l’article 461 de la Loi sur les sociétés d’assurances.

Sheet Dictionnaire des données
A1: Nom de la feuille | B1: Nom de la colonne | C1: Lien vers la liste déroulante | D1: Description de la colonne | E1: Type de colonne | F1: Type de données | G1: Exemple
A2: 00011 | B2: catégorie_de_valeur | D2: Texte fixe : « Entité (filiale ou succursale) [1 à 999] » | E2: Catégorique | F2: Chaîne de caractères | G2: Entité (filiale ou succursale) 1
A3: 00011 | B3: valeur | D3: Colonne indiquant la dénomination sociale des entités (filiale ou succursale) relevant de l'assureur fédéral. | E3: Catégorique | F3: Chaîne de caractères | G3: Texte libre
A4: 00012 | B4: catégorie_de_valeur | D4: Texte fixe : « Portefeuille [1 à 999] » | E4: Catégorique | F4: Chaîne de caractères | G4: Portefeuille 1
A5: 00012 | B5: valeur | D5: Colonne indiquant le nom des portefeuilles. | E5: Catégorique | F5: Chaîne de caractères | G5: Texte libre
A6: 00013 | B6: catégorie_de_valeur | D6: Texte fixe : « Catégorie de liquidité [1 à 999] » | E6: Catégorique | F6: Chaîne de caractères | G6: Catégorie de liquidité 1
A7: 00013 | B7: valeur | D7: Colonne indiquant le nom des catégories de liquidité par ordre croissant (1 représentant la catégorie la plus illiquide). | E7: Catégorique | F7: Chaîne de caractères | G7: Texte libre
A8: 00014 | B8: catégorie_de_valeur | D8: Texte fixe : « Segment de l’actif [1 à 999] » | E8: Catégorique | F8: Chaîne de caractères | G8: Segment de l’actif 1
A9: 00014 | B9: valeur | D9: Colonne indiquant le nom des segments de l’actif. | E9: Catégorique | F9: Chaîne de caractères | G9: Texte libre
A10: 00015 | B10: catégorie_de_valeur | D10: Texte fixe : « Sous-compte de contrats avec participation [1 à 999] » | E10: Catégorique | F10: Chaîne de caractères | G10: Sous-compte de contrats avec participation 1
A11: 00015 | B11: valeur | D11: Colonne indiquant le nom des sous-comptes de contrats avec participation. | E11: Catégorique | F11: Chaîne de caractères | G11: Texte libre
A12: 00001 | B12: catégorie_de_valeur | C12: =HYPERLINK("[BSIF1008 – RAD Excel – Vie.xlsx]'Listes déroulantes'!A1:A10", "Voir la liste « Validation – passifs ou actifs au titre des contrats d’assurance dans ce gabarit par rapport au relevé LF1 » dans l’onglet « Listes déroulantes »") -> Voir la liste « Validation – passifs ou actifs au titre des contrats d’assurance dans ce gabarit par rapport au relevé LF1 » dans l’onglet « Listes déroulantes » | D12: Texte fixe | E12: Catégorique | F12: Chaîne de caractères | G12: (b) Actifs au titre des contrats de réassurance détenus (relevé LF1 – tableau 20002, ligne 180, colonne 01)
A13: 00001 | B13: valeur | D13: Colonne indiquant la valeur numérique associée à chaque élément dans la colonne catégorie_de_valeur. La valeur doit être saisie en milliers de dollars canadiens. Lorsque catégorie_de_valeur est : « (A) Passifs des polices déclarés dans ce classeur Excel », la valeur doit correspondre à la somme de tous les chiffres dans la colonne valeur des tableaux 21020 et 25010. | E13: Numérique | F13: Nombre décimal (2 chiffres maximum après la virgule) | G13: 123.45
A14: 21020 | B14: pays | C14: =HYPERLINK("[BSIF1008 – RAD Excel – Vie.xlsx]'Listes déroulantes'!C1:C200", "Voir la liste « Pays » dans l’onglet « Listes déroulantes »") -> Voir la liste « Pays » dans l’onglet « Listes déroulantes » | D14: Colonne répertoriant les noms de pays. | E14: Catégorique | F14: Chaîne de caractères | G14: Canada
A15: 21020 | B15: entité | C15: =HYPERLINK("[BSIF1008 – RAD Excel – Vie.xlsx]'Listes déroulantes'!E1:E1000", "Voir la liste « Entité (filiale ou succursale) » dans l’onglet « Listes déroulantes » ") -> Voir la liste « Entité (filiale ou succursale) » dans l’onglet « Listes déroulantes » | D15: Colonne indiquant l’identifiant unique attribué à chaque entité (filiale ou succursale). Chaque entrée dans cette colonne correspond à un numéro d'entité (filiale ou succursale) précis qui est associé à l’onglet 00011. | E15: Catégorique | F15: Chaîne de caractères | G15: Entité (filiale ou succursale) 2
A16: 21020 | B16: avec_par_ou_sans_par | C16: =HYPERLINK("[BSIF1008 – RAD Excel – Vie.xlsx]'Listes déroulantes'!AV1:AV3", "Voir la liste « 1. Avec participation ou 2. Sans participation » dans l’onglet « Listes déroulantes » ") -> Voir la liste « 1. Avec participation ou 2. Sans participation » dans l’onglet « Listes déroulantes » | D16: Colonne indiquant la classification d'un ensemble de polices : 1. Avec participation 2. Sans participation | E16: Catégorique | F16: Nombre entier | G16: 2
A17: 21020 | B17: portefeuille | C17: =HYPERLINK("[BSIF1008 – RAD Excel – Vie.xlsx]'Listes déroulantes'!AX1:AX1000", "Voir la liste « No de portefeuille » dans l’onglet « Listes déroulantes »") -> Voir la liste « No de portefeuille » dans l’onglet « Listes déroulantes » | D17: Colonne indiquant l’identifiant unique attribué à chaque portefeuille. Chaque entrée dans cette colonne correspond à un numéro de portefeuille précis (de 1 à 999) qui est associé à l'onglet 00012. | E17: Catégorique | F17: Nombre entier | G17: 1
A18: 21020 | B18: type_de_contrat | C18: =HYPERLINK("[BSIF1008 – RAD Excel – Vie.xlsx]'Listes déroulantes'!BF1:BF4", "Voir la liste « Type de contrat » dans l’onglet « Listes déroulantes »") -> Voir la liste « Type de contrat » dans l’onglet « Listes déroulantes » | D18: Colonne classant les contrats par type : 1. Contrats d’assurance (ou de réassurance) émis 2. Contrats de réassurance détenus 3. Contrats d’investissement avec PD (participation discrétionnaire) | E18: Catégorique | F18: Nombre entier | G18: 1
A19: 21020 | B19: type_de_produit | C19: =HYPERLINK("[BSIF1008 – RAD Excel – Vie.xlsx]'Listes déroulantes'!G1:G37", "Voir la liste « Type de produit » dans l’onglet « Listes déroulantes »") -> Voir la liste « Type de produit » dans l’onglet « Listes déroulantes » | D19: Colonne répertoriant les différents types de produits d’assurance et de réassurance offerts par une entité. Chaque entrée dans cette colonne décrit un type de produit précis. | E19: Catégorique | F19: Chaîne de caractères | G19: Assurance vie temporaire
A20: 21020 | B20: préciser_autre_type_de_produit | D20: Colonne permettant de saisir un type de produit précis et de fournir une brève description si l'option « Autre » est sélectionnée dans la colonne type_de_produit. Cette colonne permet de consigner tout type de produit qui ne figure pas dans la liste d'options prédéfinies. | E20: Catégorique | F20: Chaîne de caractères | G20: Texte libre
A21: 21020 | B21: catégorie_de_valeur | C21: =HYPERLINK("[BSIF1008 – RAD Excel – Vie.xlsx]'Listes déroulantes'!BH1:BH5", "Voir la liste « Élément de passif au titre des contrats d'assurance » dans l’onglet « Listes déroulantes »") -> Voir la liste « Élément de passif au titre des contrats d'assurance » dans l’onglet « Listes déroulantes » | D21: Colonne précisant divers éléments de passif au titre des contrats d’assurance. Chaque entrée dans cette colonne correspond à un élément de passif précis : - Valeur actualisée des flux de trésorerie futurs (hors coût des garanties) - Coût des garanties - Ajustement au titre du risque - Marge sur services contractuels | E21: Catégorique | F21: Chaîne de caractères | G21: Valeur actualisée des flux de trésorerie futurs (hors coût des garanties)
A22: 21020 | B22: valeur | D22: Colonne indiquant la valeur numérique associée à chaque élément dans la colonne catégorie_de_valeur. La valeur doit être saisie en milliers de dollars canadiens. Les passifs au titre des contrats d’assurance (réassurance acceptée et réassurance détenue comprises), doivent être indiqués en positif s’il s’agit de passifs et en négatif s’il s’agit d’actifs. | E22: Numérique | F22: Nombre décimal (2 chiffres maximum après la virgule) | G22: 123.45
A23: 21021 | B23: catégorie_de_valeur | C23: Niveau de confiance des ajustements au titre du risque à l’échelle de l’entité (en %) Niveau de confiance des ajustements au titre du risque à l’échelle du Canada (en %) | D23: Texte fixe | E23: Catégorique | F23: Chaîne de caractères | G23: Niveau de confiance des ajustements au titre du risque à l’échelle de l’entité (en %)
A24: 21021 | B24: valeur | D24: Colonne contenant la valeur numérique associée à chaque élément dans la colonne catégorie_de_valeur. La valeur doit être saisie en pourcentage (%). | E24: Numérique | F24: Pourcentage (2 chiffres maximum après la virgule) | G24: 0.7654
A25: 21021 | B25: catégorie_de_valeur | C25: Base du niveau de confiance Technique d’estimation de l’ajustement au titre du risque | D25: Texte fixe | E25: Catégorique | F25: Chaîne de caractères | G25: Technique d’estimation de l’ajustement au titre du risque
A26: 21021 | B26: valeur | D26: Colonne indiquant les valeurs numériques associées à chaque élément dans la colonne catégorie_de_valeur. Si catégorie_de_valeur = « Base du niveau de confiance », sélectionner « Brute » ou « Nette ». Si catégorie_de_valeur = « Technique d’estimation de l’ajustement au titre du risque », sélectionner l’une des options suivantes : - Approche fondée sur la marge - Approche fondée sur le coût du capital - Niveau de confiance | E26: Catégorique | F26: Chaîne de caractères | G26: Brute
A27: 22010 | B27: pays | C27: =HYPERLINK("[BSIF1008 – RAD Excel – Vie.xlsx]'Listes déroulantes'!C1:C200", "Voir la liste « Pays » dans l’onglet « Listes déroulantes »") -> Voir la liste « Pays » dans l’onglet « Listes déroulantes » | D27: Colonne répertoriant les noms de pays. | E27: Catégorique | F27: Chaîne de caractères | G27: Canada
A28: 22010 | B28: entité | C28: =HYPERLINK("[BSIF1008 – RAD Excel – Vie.xlsx]'Listes déroulantes'!E1:E1000", "Voir la liste « Entité (filiale ou succursale) » dans l’onglet « Listes déroulantes » ") -> Voir la liste « Entité (filiale ou succursale) » dans l’onglet « Listes déroulantes » | D28: Colonne indiquant l’identifiant unique attribué à chaque entité (filiale ou succursale). Chaque entrée dans cette colonne correspond à un numéro d'entité (filiale ou succursale) précis qui est associé à l’onglet 00011. | E28: Catégorique | F28: Chaîne de caractères | G28: Entité (filiale ou succursale) 2
A29: 22010 | B29: avec_par_ou_sans_par | C29: =HYPERLINK("[BSIF1008 – RAD Excel – Vie.xlsx]'Listes déroulantes'!AV1:AV3", "Voir la liste « 1. Avec participation ou 2. Sans participation » dans l’onglet « Listes déroulantes » ") -> Voir la liste « 1. Avec participation ou 2. Sans participation » dans l’onglet « Listes déroulantes » | D29: Colonne indiquant la classification d'un ensemble de polices : 1. Avec participation 2. Sans participation | E29: Catégorique | F29: Nombre entier | G29: 1
A30: 22010 | B30: portefeuille | C30: =HYPERLINK("[BSIF1008 – RAD Excel – Vie.xlsx]'Listes déroulantes'!AX1:AX1000", "Voir la liste « No de portefeuille » dans l’onglet « Listes déroulantes »") -> Voir la liste « No de portefeuille » dans l’onglet « Listes déroulantes » | D30: Colonne indiquant l’identifiant unique attribué à chaque portefeuille. Chaque entrée dans cette colonne correspond à un numéro de portefeuille précis (de 1 à 999) qui est associé à l'onglet 00012. | E30: Catégorique | F30: Nombre entier | G30: 57
A31: 22010 | B31: type_de_contrat | C31: =HYPERLINK("[BSIF1008 – RAD Excel – Vie.xlsx]'Listes déroulantes'!BF1:BF4", "Voir la liste « Type de contrat » dans l’onglet « Listes déroulantes »") -> Voir la liste « Type de contrat » dans l’onglet « Listes déroulantes » | D31: Colonne classant les contrats par type : 1. Contrats d’assurance (ou de réassurance) émis 2. Contrats de réassurance détenus 3. Contrats d’investissement avec PD (participation discrétionnaire) | E31: Catégorique | F31: Nombre entier | G31: 3
A32: 22010 | B32: type_de_produit | C32: =HYPERLINK("[BSIF1008 – RAD Excel – Vie.xlsx]'Listes déroulantes'!G1:G37", "Voir la liste « Type de produit » dans l’onglet « Listes déroulantes »") -> Voir la liste « Type de produit » dans l’onglet « Listes déroulantes » | D32: Colonne répertoriant les différents types de produits d’assurance et de réassurance offerts par une entité. Chaque entrée dans cette colonne décrit un type de produit précis. | E32: Catégorique | F32: Chaîne de caractères | G32: Assurance vie temporaire
A33: 22010 | B33: préciser_autre_type_de_produit | D33: Colonne permettant de saisir un type de produit précis et de fournir une brève description si l'option « Autre » est sélectionnée dans la colonne type_de_produit. Cette colonne permet de consigner tout type de produit qui ne figure pas dans la liste d'options prédéfinies. | E33: Catégorique | F33: Chaîne de caractères | G33: Texte libre
A34: 22010 | B34: catégorie_de_valeur | C34: =HYPERLINK("[BSIF1008 – RAD Excel – Vie.xlsx]'Listes déroulantes'!BJ1:BJ10", "Voir la liste « Ajustement au titre du risque par risque – approche fondée sur la marge » dans l’onglet « Listes déroulantes »") -> Voir la liste « Ajustement au titre du risque par risque – approche fondée sur la marge » dans l’onglet « Listes déroulantes » | D34: Colonne indiquant l’ajustement au titre du risque par risque lorsque l’approche fondée sur la marge est utilisée pour évaluer les passifs au titre des contrats d’assurance : - Mortalité - Morbidité - Amélioration de la mortalité - Amélioration de la morbidité - Charges - Déchéance et autres comportements des titulaires de police - Autre ainsi que les avantages de diversification et les passifs (+) ou actifs (-) pour chaque ensemble de contrats. | E34: Catégorique | F34: Chaîne de caractères | G34: Mortalité
A35: 22010 | B35: valeur | D35: Colonne indiquant la valeur numérique associée à chaque élément dans la colonne catégorie_de_valeur. La valeur doit être saisie en milliers de dollars canadiens. | E35: Numérique | F35: Nombre décimal (2 chiffres maximum après la virgule) | G35: 123.45
A36: 22020 | B36: pays | C36: =HYPERLINK("[BSIF1008 – RAD Excel – Vie.xlsx]'Listes déroulantes'!C1:C200", "Voir la liste « Pays » dans l’onglet « Listes déroulantes »") -> Voir la liste « Pays » dans l’onglet « Listes déroulantes » | D36: Colonne répertoriant les noms de pays. | E36: Catégorique | F36: Chaîne de caractères | G36: Canada
A37: 22020 | B37: entité | C37: =HYPERLINK("[BSIF1008 – RAD Excel – Vie.xlsx]'Listes déroulantes'!E1:E1000", "Voir la liste « Entité (filiale ou succursale) » dans l’onglet « Listes déroulantes » ") -> Voir la liste « Entité (filiale ou succursale) » dans l’onglet « Listes déroulantes » | D37: Colonne indiquant l’identifiant unique attribué à chaque entité (filiale ou succursale). Chaque entrée dans cette colonne correspond à un numéro d'entité (filiale ou succursale) précis qui est associé à l’onglet 00011. | E37: Catégorique | F37: Chaîne de caractères | G37: Entité (filiale ou succursale) 2
A38: 22020 | B38: avec_par_ou_sans_par | C38: =HYPERLINK("[BSIF1008 – RAD Excel – Vie.xlsx]'Listes déroulantes'!AV1:AV3", "Voir la liste « 1. Avec participation ou 2. Sans participation » dans l’onglet « Listes déroulantes » ") -> Voir la liste « 1. Avec participation ou 2. Sans participation » dans l’onglet « Listes déroulantes » | D38: Colonne indiquant la classification d'un ensemble de polices : 1. Avec participation 2. Sans participation | E38: Catégorique | F38: Nombre entier | G38: 1
A39: 22020 | B39: portefeuille | C39: =HYPERLINK("[BSIF1008 – RAD Excel – Vie.xlsx]'Listes déroulantes'!AX1:AX1000", "Voir la liste « No de portefeuille » dans l’onglet « Listes déroulantes »") -> Voir la liste « No de portefeuille » dans l’onglet « Listes déroulantes » | D39: Colonne indiquant l’identifiant unique attribué à chaque portefeuille. Chaque entrée dans cette colonne correspond à un numéro de portefeuille précis (de 1 à 999) qui est associé à l'onglet 00012. | E39: Catégorique | F39: Nombre entier | G39: 2
A40: 22020 | B40: type_de_contrat | C40: =HYPERLINK("[BSIF1008 – RAD Excel – Vie.xlsx]'Listes déroulantes'!BF1:BF4", "Voir la liste « Type de contrat » dans l’onglet « Listes déroulantes »") -> Voir la liste « Type de contrat » dans l’onglet « Listes déroulantes » | D40: Colonne classant les contrats par type : 1. Contrats d’assurance (ou de réassurance) émis 2. Contrats de réassurance détenus 3. Contrats d’investissement avec PD (participation discrétionnaire) | E40: Catégorique | F40: Nombre entier | G40: 3
...

Sheet Commentaires
A1: Boîte de commentaires

Sheet 00011 
A1: catégorie_de_valeur | B1: valeur
A2: Entité (filiale ou succursale) 1
A3: Entité (filiale ou succursale) 2
A4: Entité (filiale ou succursale) 3
A5: Entité (filiale ou succursale) 4
A6: Entité (filiale ou succursale) 5
A7: Entité (filiale ou succursale) 6
A8: Entité (filiale ou succursale) 7
A9: Entité (filiale ou succursale) 8
A10: Entité (filiale ou succursale) 9
A11: Entité (filiale ou succursale) 10
A12: Entité (filiale ou succursale) 11
A13: Entité (filiale ou succursale) 12
... A1000: Entité (filiale ou succursale) 999

Sheet 00012
A1: catégorie_de_valeur | B1: valeur
A2: Portefeuille 1
A3: Portefeuille 2
A4: Portefeuille 3
A5: Portefeuille 4
A6: Portefeuille 5
A7: Portefeuille 6
A8: Portefeuille 7
A9: Portefeuille 8
A10: Portefeuille 9
A11: Portefeuille 10
A12: Portefeuille 11
A13: Portefeuille 12
... A1000: Portefeuille 999

Sheet 00013 
A1: catégorie_de_valeur | B1: valeur
A2: Catégorie de liquidité 1
A3: Catégorie de liquidité 2
A4: Catégorie de liquidité 3
A5: Catégorie de liquidité 4
A6: Catégorie de liquidité 5
A7: Catégorie de liquidité 6
A8: Catégorie de liquidité 7
A9: Catégorie de liquidité 8
A10: Catégorie de liquidité 9
A11: Catégorie de liquidité 10
A12: Catégorie de liquidité 11
A13: Catégorie de liquidité 12
... A1000: Catégorie de liquidité 999

Sheet 00014 
A1: catégorie_de_valeur | B1: valeur
A2: Segment de l’actif 1
A3: Segment de l’actif 2
A4: Segment de l’actif 3
A5: Segment de l’actif 4
A6: Segment de l’actif 5
A7: Segment de l’actif 6
A8: Segment de l’actif 7
A9: Segment de l’actif 8
A10: Segment de l’actif 9
A11: Segment de l’actif 10
A12: Segment de l’actif 11
A13: Segment de l’actif 12
... A1000: Segment de l’actif 999

Sheet 00015
A1: catégorie_de_valeur | B1: valeur
A2: Sous-compte de contrats avec participation 1
A3: Sous-compte de contrats avec participation 2
A4: Sous-compte de contrats avec participation 3
A5: Sous-compte de contrats avec participation 4
A6: Sous-compte de contrats avec participation 5
A7: Sous-compte de contrats avec participation 6
A8: Sous-compte de contrats avec participation 7
A9: Sous-compte de contrats avec participation 8
A10: Sous-compte de contrats avec participation 9
A11: Sous-compte de contrats avec participation 10
A12: Sous-compte de contrats avec participation 11
A13: Sous-compte de contrats avec participation 12
... A1000: Sous-compte de contrats avec participation 999

Sheet 00001
A1: catégorie_de_valeur | B1: valeur
A2: (A) Passifs des polices déclarés dans ce classeur Excel
A3: (a) Actifs au titre des contrats d'assurance (relevé LF1 – tableau 20002, ligne 170, colonne 01)
A4: (b) Actifs au titre des contrats de réassurance détenus (relevé LF1 – tableau 20002, ligne 180, colonne 01)
A5: (c) Passifs au titre des contrats d'assurance – excluant les fonds distincts (relevé LF1 – tableau 20004, ligne 150, colonne 01)
A6: (d) Passifs au titre des contrats d'assurance – Garanties de fonds distincts (relevé LF1 – tableau 20004, ligne 155, colonne 01)
A7: (e) Passifs au titre des contrats de réassurance détenus – excluant les fonds distincts (relevé LF1 – tableau 20004, ligne 170, colonne 01)
A8: (f) Passifs au titre des contrats de réassurance détenus – Garanties de fonds distincts (relevé LF1 – tableau 20004, ligne 175, colonne 01)
A9: (g) Passifs des contrats d'investissement – excluant les fonds distincts (relevé LF1 – tableau 20004, ligne 190, colonne 01)
A10: La différence entre (A) et la somme de [(a) à (g)] est-elle expliquée? (1. Oui ou 2. Non) L'explication doit figurer dans la section « Généralités » du rapport de l'actuaire désigné.

Sheet 21020
A1: pays | B1: entité | C1: avec_par_ou_sans_par | D1: portefeuille | E1: type_de_contrat | F1: type_de_produit | G1: préciser_autre_type_de_produit | H1: catégorie_de_valeur | I1: valeur
H2: Valeur actualisée des flux de trésorerie futurs (hors coût des garanties)
H3: Coût des garanties
H4: Ajustement au titre du risque
H5: Marge sur services contractuels

Sheet 21021
A1: catégorie_de_valeur | B1: valeur
A2: Niveau de confiance des ajustements au titre du risque à l’échelle de l’entité (en %)
A3: Niveau de confiance des ajustements au titre du risque à l’échelle du Canada (en %)
A4: Base du niveau de confiance – avant ou après déduction de la réassurance
A5: Technique d’estimation de l’ajustement au titre du risque

Sheet 22010
A1: country | B1: entité | C1: avec_par_ou_sans_par | D1: portefeuille | E1: type_de_contrat | F1: type_de_produit | G1: préciser_autre_type_de_produit | H1: catégorie_de_valeur | I1: valeur
H2: Passifs (+) ou actifs (-) au titre des contrats d’assurance
H3: Mortalité
H4: Morbidité
H5: Amélioration de la mortalité
H6: Amélioration de la morbidité
H7: Charges
H8: Déchéance et autres comportements des titulaires de polices
H9: Autre
H10: Avantages de diversification

Sheet 22020
A1: pays | B1: entité | C1: avec_par_ou_sans_par | D1: portefeuille | E1: type_de_contrat | F1: type_de_produit | G1: préciser_autre_type_de_produit | H1: catégorie_de_valeur | I1: valeur
H2: Passifs (+) ou actifs (-) au titre des contrats d’assurance
H3: Ajustement au titre du risque total
H4: Avantages de diversification

Sheet 23010
A1: pays | B1: entité | C1: avec_par_ou_sans_par | D1: portefeuille | E1: type_de_contrat | F1: type_de_produit | G1: préciser_autre_type_de_produit | H1: changements_hypothèses_méthodes | I1: préciser_autre_hypothèse_méthode | J1: description_du_changement | K1: catégorie_de_valeur | L1: valeur
K2: Valeur actualisée des flux de trésorerie futurs (hors coût des garanties)
K3: Coût des garanties
K4: Ajustement au titre du risque
K5: Marge sur services contractuels

Sheet 23020
A1: pays | B1: entité | C1: avec_par_ou_sans_par | D1: portefeuille | E1: type_de_contrat | F1: type_de_produit | G1: préciser_autre_type_de_produit | H1: changements_hypothèses_méthodes | I1: préciser_autre_hypothèse_méthode | J1: trimestre | K1: description_du_changement | L1: catégorie_de_valeur | M1: valeur
L2: Valeur actualisée des flux de trésorerie futurs (hors coût des garanties)
L3: Coût des garanties
L4: Ajustement au titre du risque
L5: Marge sur services contractuels

Sheet 23030
A1: pays | B1: entité | C1: avec par_ou_sans_par | D1: portefeuille | E1: type_de_contrat | F1: description_du_changement | G1: trimestre | H1: catégorie_de_valeur | I1: valeur
H2: Valeur actualisée des flux de trésorerie futurs (hors coût des garanties)
H3: Coût des garanties
H4: Ajustement au titre du risque
H5: Marge sur services contractuels

Sheet 24010
A1: pays | B1: entité | C1: portefeuille | D1: type_de_produit | E1: préciser_autre_type_de_produit | F1: type_de_contrat | G1: comprend_produits_contractuellement_ajustables | H1: comprend_produits_avec_participation | I1: contrats_comprennent_garanties_financières | J1: modélisation_utilisée | K1: comprend_flux_trésorerie_varient_sous_jacents | L1: comprend_contrats_avec_composants_investissements_services | M1: approche_évaluation

Sheet 25010
A1: norme_IFRS | B1: description_des_contrats | C1: valeur

Sheet 32010
A1: pays | B1: devise | C1: catégorie_liquidité | D1: 1_comptant_ou_2_terme | E1: 1_ascendante_ou_2_descendante | F1: année | G1: 1_observables_ou_2_non_observables | H1: valeur
F2: 1
F3: 2
F4: 3
F5: 4
F6: 5
F7: 6
F8: 7
F9: 8
F10: 9
F11: 10
F12: 11
F13: 12
... F101: 100

Sheet 32020
A1: devise | B1: 1_comptant_ou_2_terme | C1: année | D1: 1_observables_ou_2_non_observables | E1: valeur
C2: 1
C3: 2
C4: 3
C5: 4
C6: 5
C7: 6
C8: 7
C9: 8
C10: 9
C11: 10
C12: 11
C13: 12
... C101: 100

Sheet 41310
A1: année | B1: catégorie_de_valeur | C1: valeur
A2: 1 | B2: Montant moyen du capital
A3: 2 | B3: Montant moyen du capital
A4: 3 | B4: Montant moyen du capital
A5: 4 | B5: Montant moyen du capital
A6: 5 | B6: Montant moyen du capital
A7: 6 | B7: Montant moyen du capital
A8: 7 | B8: Montant moyen du capital
A9: 8 | B9: Montant moyen du capital
A10: 9 | B10: Montant moyen du capital
A11: 10 | B11: Montant moyen du capital
A12: 11 | B12: Montant moyen du capital
A13: 12 | B13: Montant moyen du capital
... A301: 100 | B301: Taux d’actualisation (en %)

Sheet 42110
A1: pays | B1: entité | C1: portefeuille | D1: type_de_produit | E1: préciser_autre_type_de_produit | F1: catégorie_de_groupe | G1: catégorie_de_valeur | H1: valeur
F2: 1. Nouveaux contrats – groupes de contrats qui sont déficitaires | G2: Valeur actualisée des flux de trésorerie futurs
F3: 1. Nouveaux contrats – groupes de contrats qui sont déficitaires | G3: Ajustement au titre du risque non financier
F4: 1. Nouveaux contrats – groupes de contrats qui sont déficitaires | G4: Marge sur services contractuels
F5: 1. Nouveaux contrats – groupes de contrats qui sont déficitaires | G5: Élément de perte
F6: 1. Nouveaux contrats – groupes de contrats qui sont déficitaires | G6: Capital nominal
F7: 1. Nouveaux contrats – groupes de contrats qui sont déficitaires | G7: Valeur des comptes
F8: 1. Nouveaux contrats – groupes de contrats qui sont déficitaires | G8: Prime annualisée – première année
F9: 1. Nouveaux contrats – groupes de contrats qui sont déficitaires | G9: Prime unique
F10: 2. Nouveaux contrats – groupes de contrats qui n’ont pas de possibilité importante de devenir déficitaires | G10: Valeur actualisée des flux de trésorerie futurs
F11: 2. Nouveaux contrats – groupes de contrats qui n’ont pas de possibilité importante de devenir déficitaires | G11: Ajustement au titre du risque non financier
F12: 2. Nouveaux contrats – groupes de contrats qui n’ont pas de possibilité importante de devenir déficitaires | G12: Marge sur services contractuels
F13: 2. Nouveaux contrats – groupes de contrats qui n’ont pas de possibilité importante de devenir déficitaires | G13: Élément de perte
... F29: 4. Tous les contrats à la clôture de l’exercice en cours | G29: Prime annualisée – renouvellement

Sheet 42120
A1: pays | B1: entité | C1: avec_par_ou_sans_par | D1: portefeuille | E1: valeur

Sheet 51010
A1: pays | B1: type_de_catégorie_1 | C1: type_de_catégorie_2 | D1: type_de_contrat | E1: catégorie_de_valeur | F1: sous_catégorie_de_valeur | G1: valeur
A2: Canada | B2: Scénario de base | C2: NUL | D2: 1. Contrats d’assurance (ou de réassurance) émis | E2: Valeur actualisée des flux de trésorerie futurs | F2: Flux de trésorerie qui ne varient pas en fonction des éléments sous-jacents
A3: Canada | B3: Scénario de base | C3: NUL | D3: 1. Contrats d’assurance (ou de réassurance) émis | E3: Valeur actualisée des flux de trésorerie futurs | F3: Flux de trésorerie qui varient en fonction des éléments sous-jacents
A4: Canada | B4: Scénario de base | C4: NUL | D4: 1. Contrats d’assurance (ou de réassurance) émis | E4: Valeur actualisée des flux de trésorerie futurs | F4: Autre
A5: Canada | B5: Scénario de base | C5: NUL | D5: 1. Contrats d’assurance (ou de réassurance) émis | E5: Ajustement au titre du risque | F5: Flux de trésorerie qui ne varient pas en fonction des éléments sous-jacents
A6: Canada | B6: Scénario de base | C6: NUL | D6: 1. Contrats d’assurance (ou de réassurance) émis | E6: Ajustement au titre du risque | F6: Flux de trésorerie qui varient en fonction des éléments sous-jacents
A7: Canada | B7: Scénario de base | C7: NUL | D7: 1. Contrats d’assurance (ou de réassurance) émis | E7: Ajustement au titre du risque | F7: Autre
A8: Canada | B8: Scénario de base | C8: NUL | D8: 1. Contrats d’assurance (ou de réassurance) émis | E8: Marge sur services contractuels | F8: Flux de trésorerie qui ne varient pas en fonction des éléments sous-jacents
A9: Canada | B9: Scénario de base | C9: NUL | D9: 1. Contrats d’assurance (ou de réassurance) émis | E9: Marge sur services contractuels | F9: Flux de trésorerie qui varient en fonction des éléments sous-jacents
A10: Canada | B10: Scénario de base | C10: NUL | D10: 1. Contrats d’assurance (ou de réassurance) émis | E10: Marge sur services contractuels | F10: Autre
A11: Canada | B11: Scénario de base | C11: NUL | D11: 2. Contrats de réassurance détenus | E11: Valeur actualisée des flux de trésorerie futurs | F11: Flux de trésorerie qui ne varient pas en fonction des éléments sous-jacents
A12: Canada | B12: Scénario de base | C12: NUL | D12: 2. Contrats de réassurance détenus | E12: Valeur actualisée des flux de trésorerie futurs | F12: Flux de trésorerie qui varient en fonction des éléments sous-jacents
A13: Canada | B13: Scénario de base | C13: NUL | D13: 2. Contrats de réassurance détenus | E13: Valeur actualisée des flux de trésorerie futurs | F13: Autre
... A267: Autres régions | B267: Utilisation de la courbe de l’ICA de décembre de l'année en cours | C267: NUL | D267: 2. Contrats de réassurance détenus | E267: NUL | F267: NUL

Sheet 53010
A1: pays | B1: entité | C1: avec_par_ou_sans_par | D1: portefeuille | E1: description_provisions_générales | F1: valeur

Sheet 54010
A1: société_réassurance | B1: portefeuille | C1: type_de_produit_de_réassurance | D1: préciser_autre_type_de_produit_de_réassurance | E1: type_de_produit_contrats_ass_directe_sous_jacents | F1: préciser_autre_type_de_produit_contrats_ass_directe_sous_jacents | G1: type_de_réassurance | H1: principaux_risques_transférés | I1: catégorie_de_valeur | J1: valeur
I2: Actifs au titre des contrats de réassurance détenus (-)
I3: Passifs au titre des contrats de réassurance détenus (+)

Sheet 61010
A1: pays | B1: devise | C1: segment_actif | D1: avec_par_ou_sans_par_ou_autre | E1: préciser_autre_que_avec_par_ou_sans_par | F1: catégorie_actifs | G1: segment_comprend_flux_trésorerie_exécution | H1: segment_comprend_marges_services_contractuels | I1: segment_comprend_capitaux_propres | J1: préciser_portefeuilles_segment_actif | K1: préciser_produits_segment_actif | L1: catégorie_de_valeur | M1: valeur
F2: Obligations | L2: Coût amorti
F3: Obligations | L3: Juste valeur par le biais du résultat net (JVRN)
F4: Obligations | L4: Juste valeur par le biais des autres éléments du résultat global (JVAERG)
F5: Prêts hypothécaires | L5: Coût amorti
F6: Prêts hypothécaires | L6: Juste valeur par le biais du résultat net (JVRN)
F7: Prêts hypothécaires | L7: Juste valeur par le biais des autres éléments du résultat global (JVAERG)
F8: Actions | L8: Juste valeur par le biais du résultat net (JVRN)
F9: Actions | L9: Juste valeur par le biais des autres éléments du résultat global (JVAERG)
F10: Immobilier – Immeubles de placement | L10: Évalué au prix coûtant
F11: Immobilier – Immeubles de placement | L11: Évalué à la juste valeur
F12: Immobilier – Immeubles détenus | L12: Évalué au prix coûtant
F13: Immobilier – Immeubles détenus | L13: Évalué à la juste valeur
... F19: Autres actifs | L19: NUL

Sheet 62010
A1: pays | B1: devise | C1: segment_actif | D1: catégorie_actifs | E1: catégorie_de_valeur | F1: valeur
D2: Obligations | E2: Rendement réel
D3: Prêts hypothécaires | E3: Rendement réel
D4: Actions de sociétés ouvertes | E4: Rendement réel ou attendu – Dividendes ou produits
D5: Actions de sociétés ouvertes | E5: Rendement réel ou attendu – Gain en capital ou croissance
D6: Actions de sociétés ouvertes | E6: Rendement total réel ou attendu
D7: Actions de sociétés fermées | E7: Rendement réel ou attendu – Dividendes ou produits
D8: Actions de sociétés fermées | E8: Rendement réel ou attendu – Gain en capital ou croissance
D9: Actions de sociétés fermées | E9: Rendement total réel ou attendu
D10: Immobilier | E10: Rendement réel ou attendu – Dividendes ou produits
D11: Immobilier | E11: Rendement réel ou attendu – Gain en capital ou croissance
D12: Immobilier | E12: Rendement total réel ou attendu
D13: Espèces et financement à court terme | E13: Rendement réel
... D20: Autres actifs | E20: Rendement réel

Sheet 71110
A1: sous_compte_participation | B1: catégorie_de_valeur | C1: valeur
B2: Excédent du sous-compte, début de l’exercice, comme déclaré antérieurement
B3: Excédent du sous-compte redressé, début de l’exercice
B4: Intérêt résiduel du sous-compte, début de l’exercice
B5: Redressement de la valeur des devises
B6: Revenu net du sous-compte
B7: Prélèvements de l’excédent du sous-compte et virements au compte des actionnaires conformément à l’alinéa 462a) de la LSA(*)
B8: Autres virements ou prélèvements à/de l’excédent du sous-compte (**)
B9: Excédent du sous-compte, fin de l’exercice (***)
B10: Intérêt résiduel du sous-compte, fin de l’exercice (***)
B11: Sous-compte (passif et excédent), début de l’exercice, comme déclaré antérieurement
B12: Sous-compte redressé (passif et excédent), début de l’exercice
B13: Total du sous-compte (passif et excédent), fin de l’exercice
... B19: Calcul des virements en vertu de l’alinéa 462a) en conformité avec l’article 461 de la LSA

Sheet Règles de validation
A1: Numéro d’erreur | B1: Nom de la feuille de calcul | C1: Nom de la colonne | D1: Critère | E1: Règle de validation | F1: Description de l’erreur | G1: Type de colonne | H1: Type de données | I1: Exemple | J1: Associated Value_category Field | K1: Associated product_type Field | L1: Associated assumption_methodology Field | M1: Associated product_type_underlying_direct_contracts Field | N1: Associated par_or_nonpar_or_other Field
A2: 1 | B2: 00001 | C2: catégorie_de_valeur | E2: Le texte saisi doit être identique à celui de la liste déroulante. | F2: Le texte saisi doit être identique à celui de la liste déroulante. | G2: Catégorique | H2: Chaîne de caractères | I2: Voir la liste déroulante
A3: 2 | B3: 00001 | C3: valeur | D3: Si « catégorie_de_valeur » est : « (A) Passifs des polices déclarés dans ce classeur Excel » | E3: Ce champ ne peut pas être vide. | F3: Il faut saisir une valeur. | G3: Numérique | H3: Nombre décimal | I3: 123.54 | J3: (A) Policy liabilities reported in this workbook
A4: 3 | B4: 00001 | C4: valeur | D4: Si « catégorie_de_valeur » est : « (a) Actifs au titre des contrats d'assurance (relevé LF1 – tableau 20002, ligne 170, colonne 01) » | E4: Ce champ ne peut pas être vide. | F4: Il faut saisir une valeur. | G4: Numérique | H4: Nombre décimal | I4: 123.54 | J4: (a) Insurance Contract Assets ((LF1 - schedule 20002, row 170, column 01)
A5: 4 | B5: 00001 | C5: valeur | D5: Si « catégorie_de_valeur » est : « (b) Actifs au titre des contrats de réassurance détenus (relevé LF1 – tableau 20002, ligne 180, colonne 01) » | E5: Ce champ ne peut pas être vide. | F5: Il faut saisir une valeur. | G5: Numérique | H5: Nombre décimal | I5: 123.54 | J5: (b) Reinsurance Contract Assets (LF1 - schedule 20002, row 180, column 01)
A6: 5 | B6: 00001 | C6: valeur | D6: Si « catégorie_de_valeur » est : « (c) Passifs au titre des contrats d'assurance – excluant les fonds distincts (relevé LF1 – tableau 20004, ligne 150, colonne 01) » | E6: Ce champ ne peut pas être vide. | F6: Il faut saisir une valeur. | G6: Numérique | H6: Nombre décimal | I6: 123.54 | J6: (c) Insurance Contract Liabilities – Excluding Segregated Funds Net Liabilities (LF1 - schedule 20004, row 150, column 01)
A7: 6 | B7: 00001 | C7: valeur | D7: Si « catégorie_de_valeur » est : « (d) Passifs au titre des contrats d'assurance – Garanties de fonds distincts (relevé LF1 – tableau 20004, ligne 155, colonne 01) » | E7: Ce champ ne peut pas être vide. | F7: Il faut saisir une valeur. | G7: Numérique | H7: Nombre décimal | I7: 123.54 | J7: (d) Insurance Contract Liabilities - Segregated Fund Guarantees (LF1 - schedule 20004, row 155, column 01)
A8: 7 | B8: 00001 | C8: valeur | D8: Si « catégorie_de_valeur » est : « (e) Passifs au titre des contrats de réassurance détenus – excluant les fonds distincts (relevé LF1 – tableau 20004, ligne 170, colonne 01) » | E8: Ce champ ne peut pas être vide. | F8: Il faut saisir une valeur. | G8: Numérique | H8: Nombre décimal | I8: 123.54 | J8: (e) Reinsurance Contract Held Liabilities – Excluding Segregated Funds (LF1 - schedule 20004, row 170, column 01)
A9: 8 | B9: 00001 | C9: valeur | D9: Si « catégorie_de_valeur » est : « (f) Passifs au titre des contrats de réassurance détenus – Garanties de fonds distincts (relevé LF1 – tableau 20004, ligne 175, colonne 01) » | E9: Ce champ ne peut pas être vide. | F9: Il faut saisir une valeur. | G9: Numérique | H9: Nombre décimal | I9: 123.54 | J9: (f) Reinsurance Contract Held Liabilities - Segregated Fund Guarantees (LF1 - schedule 20004, row 175, column 01)
A10: 9 | B10: 00001 | C10: valeur | D10: Si « catégorie_de_valeur » est : « (g) Passifs des contrats d'investissement – excluant les fonds distincts (relevé LF1 – tableau 20004, ligne 190, colonne 01) » | E10: Ce champ ne peut pas être vide. | F10: Il faut saisir une valeur. | G10: Numérique | H10: Nombre décimal | I10: 123.54 | J10: (g) Investment Contract Liabilities – Excluding Segregated Funds Net Liabilities (LF1 - schedule 20004, row 190, column 01)
A11: 10 | B11: 00001 | C11: valeur | D11: Si « catégorie_de_valeur » est : « La différence entre (A) et la somme de [(a) à (g)] est-elle expliquée? (1. Oui ou 2. Non) L'explication doit figurer dans la section « Généralités » du rapport de l'actuaire désigné. » | E11: Ce champ ne peut pas être vide. | F11: Il faut saisir une valeur, et la valeur saisie ne peut être que « 1 − Oui » ou « 2 − Non ». | G11: Catégorique | H11: Nombre entier | I11: 1 ou 2 | J11: Is the explanation of the difference between (A) and sum of [(a) to (g)] provided? (1. Yes or 2. No) The explanation must be provided in the 'General' section of the Appointed Actuary's report.
A12: 11 | B12: 00011 | C12: catégorie_de_valeur | E12: Le texte saisi doit être identique à celui de la liste déroulante. | F12: Le texte saisi doit être identique à celui de la liste déroulante. | G12: Catégorique | H12: Chaîne de caractères | I12: Voir la liste déroulante
A13: 12 | B13: 00011 | C13: valeur | E13: Aucune règle de validation | G13: Catégorique | H13: Chaîne de caractères | I13: Texte libre
A14: 13 | B14: 00012 | C14: catégorie_de_valeur | E14: Le texte saisi doit être identique à celui de la liste déroulante. | F14: Le texte saisi doit être identique à celui de la liste déroulante. | G14: Catégorique | H14: Chaîne de caractères | I14: Voir la liste déroulante
A15: 14 | B15: 00012 | C15: valeur | E15: Aucune règle de validation | G15: Catégorique | H15: Chaîne de caractères | I15: Texte libre
A16: 15 | B16: 00013 | C16: catégorie_de_valeur | E16: Le texte saisi doit être identique à celui de la liste déroulante. | F16: Le texte saisi doit être identique à celui de la liste déroulante. | G16: Catégorique | H16: Chaîne de caractères | I16: Voir la liste déroulante
A17: 16 | B17: 00013 | C17: valeur | E17: Aucune règle de validation | G17: Catégorique | H17: Chaîne de caractères | I17: Texte libre
A18: 17 | B18: 00014 | C18: catégorie_de_valeur | E18: Le texte saisi doit être identique à celui de la liste déroulante. | F18: Le texte saisi doit être identique à celui de la liste déroulante. | G18: Catégorique | H18: Chaîne de caractères | I18: Voir la liste déroulante
A19: 18 | B19: 00014 | C19: valeur | E19: Aucune règle de validation | G19: Catégorique | H19: Chaîne de caractères | I19: Texte libre
A20: 19 | B20: 00015 | C20: catégorie_de_valeur | E20: Le texte saisi doit être identique à celui de la liste déroulante. | F20: Le texte saisi doit être identique à celui de la liste déroulante. | G20: Catégorique | H20: Chaîne de caractères | I20: Voir la liste déroulante
A21: 20 | B21: 00015 | C21: valeur | E21: Aucune règle de validation | G21: Catégorique | H21: Chaîne de caractères | I21: Texte libre
A22: 21 | B22: 21020 | C22: pays; entité; avec_par_ou_sans_par; portefeuille; type_de_contrat; type_de_produit; catégorie_de_valeur | E22: Le texte saisi doit être identique à celui de la liste déroulante. | F22: Le texte saisi doit être identique à celui de la liste déroulante. | G22: Catégorique | H22: Chaîne de caractères ou nombre entier | I22: Voir la liste déroulante
A23: 22 | B23: 21020 | C23: préciser_autre_type_de_produit | D23: Si « type_de_produit » est l’un des éléments suivants : (« Autre assurance ajustable », « Autre assurance vie individuelle », « Autres rentes », « Autre assurance maladie individuelle », « Autres produits d’assurance collective », « Coassurance − Autre », « Réassurance − Autre ») | E23: Ce champ ne peut pas être vide. | F23: Il faut saisir une valeur. | G23: Catégorique | H23: Chaîne de caractères | I23: Texte libre | K23: if any of the following items is selected: ( "Adjustable Other", "Other Individual Life", "Other Annuities", "Other Individual Health", "Other Group products", "Coinsurance - Other", "Reinsurance- Other")
A24: 23 | B24: 21020 | C24: valeur | E24: Aucune règle de validation | G24: Numérique | H24: Nombre décimal | I24: 123.54
A25: 24 | B25: 21021 | C25: catégorie_de_valeur | E25: Le texte saisi doit être identique à celui de la liste déroulante. | F25: Le texte saisi doit être identique à celui de la liste déroulante. | G25: Catégorique | H25: Chaîne de caractères | I25: Voir la liste déroulante
A26: 25 | B26: 21021 | C26: valeur | D26: Si « catégorie_de_valeur » est : « Niveau de confiance des ajustements au titre du risque à l’échelle de l’entité (en %) » | E26: Ce champ ne peut pas être vide. | F26: Il faut saisir une valeur. | G26: Numérique | H26: Pourcentage | I26: 0.7654 | J26: Confidence level of risk adjustments at the entity-level (%)
A27: 26 | B27: 21021 | C27: valeur | D27: Si « catégorie_de_valeur » est : « Niveau de confiance des ajustements au titre du risque à l’échelle du Canada (en %) » | E27: Ce champ ne peut pas être vide. | F27: Il faut saisir une valeur. | G27: Numérique | H27: Pourcentage | I27: 0.7654 | J27: Confidence level of risk adjustments at the Canadian-level (%)
A28: 27 | B28: 21021 | C28: valeur | D28: Si « catégorie_de_valeur » est : Base du niveau de confiance – avant ou après déduction de la réassurance | E28: Ce champ ne peut pas être vide. | F28: La valeur doit être saisie, et la saisie ne peut être que brute ou nette. | G28: Catégorique | H28: Chaîne de caractères | I28: Voir la liste déroulante | J28: Confidence level base - gross or net of reinsurance
A29: 28 | B29: 21021 | C29: valeur | D29: Si « catégorie_de_valeur » est : « Technique d’estimation de l’ajustement au titre du risque » | E29: Ce champ ne peut pas être vide. | F29: La valeur doit être saisie, et la saisie doit être identique à celle de la liste déroulante. | G29: Catégorique | H29: Chaîne de caractères | I29: Voir la liste déroulante | J29: Estimation technique for risk adjustment
A30: 29 | B30: 22010 | C30: pays; entité; avec_par_ou_sans_par; portefeuille; type_de_contrat; type_de_produit; catégorie_de_valeur | E30: Le texte saisi doit être identique à celui de la liste déroulante. | F30: Le texte saisi doit être identique à celui de la liste déroulante. | G30: Catégorique | H30: Chaîne de caractères ou nombre entier | I30: Voir la liste déroulante
A31: 30 | B31: 22010 | C31: préciser_autre_type_de_produit | D31: Si « type_de_produit » est l’un des éléments suivants : (« Autre assurance ajustable », « Autre assurance vie individuelle », « Autres rentes », « Autre assurance maladie individuelle », « Autres produits d’assurance collective », « Coassurance − Autre », « Réassurance − Autre ») | E31: Ce champ ne peut pas être vide. | F31: Il faut saisir une valeur. | G31: Catégorique | H31: Chaîne de caractères | I31: Texte libre | K31: if any of the following items is selected: ( "Adjustable Other", "Other Individual Life", "Other Annuities", "Other Individual Health", "Other Group products", "Coinsurance - Other", "Reinsurance- Other")
A32: 31 | B32: 22010 | C32: valeur | E32: Aucune règle de validation | G32: Numérique | H32: Nombre décimal | I32: 123.54
A33: 32 | B33: 22020 | C33: pays; entité; avec_par_ou_sans_par; portefeuille; type_de_contrat; type_de_produit; catégorie_de_valeur | E33: Le texte saisi doit être identique à celui de la liste déroulante. | F33: Le texte saisi doit être identique à celui de la liste déroulante. | G33: Catégorique | H33: Chaîne de caractères ou nombre entier | I33: Voir la liste déroulante
A34: 33 | B34: 22020 | C34: préciser_autre_type_de_produit | D34: Si « type_de_produit » est l’un des éléments suivants : (« Autre assurance ajustable », « Autre assurance vie individuelle », « Autres rentes », « Autre assurance maladie individuelle », « Autres produits d’assurance collective », « Coassurance − Autre », « Réassurance − Autre ») | E34: Ce champ ne peut pas être vide. | F34: Il faut saisir une valeur. | G34: Catégorique | H34: Chaîne de caractères | I34: Texte libre | K34: if any of the following items is selected: ( "Adjustable Other", "Other Individual Life", "Other Annuities", "Other Individual Health", "Other Group products", "Coinsurance - Other", "Reinsurance- Other")
A35: 34 | B35: 22020 | C35: valeur | E35: Aucune règle de validation | G35: Numérique | H35: Nombre décimal | I35: 123.54
A36: 35 | B36: 23010 | C36: pays; entité; avec_par_ou_sans_par; portefeuille; type_de_contrat; type_de_produit; changements_hypothèses_méthodes catégorie_de_valeur | E36: Le texte saisi doit être identique à celui de la liste déroulante. | F36: Le texte saisi doit être identique à celui de la liste déroulante. | G36: Catégorique | H36: Chaîne de caractères ou nombre entier | I36: Voir la liste déroulante
A37: 36 | B37: 23010 | C37: préciser_autre_type_de_produit | D37: Si « type_de_produit » est l’un des éléments suivants : (« Autre assurance ajustable », « Autre assurance vie individuelle », « Autres rentes », « Autre assurance maladie individuelle », « Autres produits d’assurance collective », « Coassurance − Autre », « Réassurance − Autre ») | E37: Ce champ ne peut pas être vide. | F37: Il faut saisir une valeur. | G37: Catégorique | H37: Chaîne de caractères | I37: Texte libre | K37: if any of the following items is selected: ( "Adjustable Other", "Other Individual Life", "Other Annuities", "Other Individual Health", "Other Group products", "Coinsurance - Other", "Reinsurance- Other")
A38: 37 | B38: 23010 | C38: préciser_autre_hypothèse_méthode | D38: Si « changement_hypothèse_méthode » est : « Autre » | E38: Ce champ ne peut pas être vide. | F38: Il faut saisir une valeur. | G38: Catégorique | H38: Chaîne de caractères | I38: Texte libre | L38: if "Other" is selected
A39: 38 | B39: 23010 | C39: description_du_changement | E39: Aucune règle de validation | G39: Catégorique | H39: Chaîne de caractères | I39: =+'Dictionnaire des données'!$G$5 -> Texte libre
A40: 39 | B40: 23010 | C40: valeur | E40: Aucune règle de validation | G40: Numérique | H40: Nombre décimal | I40: 123.54
...

Sheet Listes déroulantes
A1: Validation – passifs ou actifs au titre des contrats d’assurance dans ce gabarit par rapport au relevé LF1 | C1: Pays | E1: Entité (filiale ou succursale) | G1: Type de produit | I1: Changements apportés aux hypothèses ou aux méthodes | K1: Changements apportés aux hypothèses ou aux méthodes en lien avec des risques financiers | M1: Modélisation – garanties financières | O1: Approche d'évaluation | Q1: Devise | S1: Variation ou non-variation des flux de trésorerie | U1: Type de produit de réassurance | W1: Type de produit des contrats d'assurance directe sous-jacents | Y1: Type de réassurance | AB1: Actifs | AD1: Évaluation de l’actif | AF1: Rendement de l’actif | AH1: Calcul du virement du sous-compte de contrats avec participation au compte des actionnaires | AJ1: Information sur l’examen par un pair | AL1: Travaux de l’actuaire désigné | AN1: Examen limité ou complet | AP1: Antérieur ou postérieur à la diffusion | AR1: Base du niveau de confiance | AT1: Technique d’estimation de l’ajustement au titre du risque | AV1: 1. Avec participation, 2. Sans participation ou 3. Autre | AX1: No de portefeuille | AZ1: No de catégorie d'illiquidité | BB1: No de segment de l’actif | BD1: No du sous-compte de contrats avec participation | BF1: Type de contrat | BH1: Élément de passif au titre des contrats d'assurance1 | BJ1: Ajustement au titre du risque par risque – approche fondée sur la marge | BL1: Ajustement au titre du risque par risque – autre que l'approche fondée sur la marge | BN1: Trimestre | BP1: 1. Oui ou 2. Non | BR1: Norme IFRS | BT1: 1. Taux au comptant ou 2. Taux à terme | BV1: 1. Ascendante ou 2. Descendante | BX1: Année | BZ1: 1. Observables ou 2. Non observables | CB1: Informations sur le coût du capital | CD1: Groupe de données sur les produits | CF1: Données sur les produits – capital nominal; valeur des comptes; primes | CH1: Scénario d’analyse de sensibilité aux taux d’intérêt | CJ1: Liste simplifiée des catégories de liquidité | CL1: Liste simplifiée des catégories de pays | CN1: Actifs (-) ou passifs (+) au titre des contrats de réassurance détenus | CP1: Niveau de confiance des ajustements au titre du risque | CT1: Élément de passif au titre des contrats d'assurance2
A2: (A) Passifs des polices déclarés dans ce classeur Excel | C2: Canada | E2: Entité (filiale ou succursale) 1 | G2: Assurance vie temporaire | I2: Changements apportés aux méthodes | K2: Changements de taux d’actualisation pour les flux de trésorerie qui varient | M2: Modèle stochastique | O2: Méthode générale d'évaluation (MGE) | Q2: Afghani afghan | S2: Flux de trésorerie qui ne varient pas en fonction des éléments sous-jacents | U2: TRA – Assurance vie entière ou assurance vie mixte | W2: Assurance vie temporaire (sauf T100) | Y2: Coassurance modifiée | AB2: Obligations | AD2: Coût amorti | AF2: Rendement réel | AH2: Excédent du sous-compte, début de l’exercice, comme déclaré antérieurement | AJ2: a. Nom du pair examinateur | AL2: Rapport de l’actuaire désigné (RAD) | AN2: Limité | AP2: Antérieur | AR2: Brute | AT2: 1. Approche fondée sur la marge | AV2: 1 | AX2: 1 | AZ2: 1 | BB2: 1 | BD2: 1 | BF2: 1. Contrats d’assurance (ou de réassurance) émis | BH2: Valeur actualisée des flux de trésorerie futurs (hors coût des garanties) | BJ2: Mortalité | BL2: Avantages de diversification | BN2: T1 | BP2: 1 | BR2: IFRS 9 | BT2: 1 | BV2: 1 | BX2: 1 | BZ2: 1 | CB2: Montant moyen du capital | CD2: 1. Nouveaux contrats – groupes de contrats qui sont déficitaires | CF2: Capital nominal | CH2: Scénario de base | CJ2: 1. Catégorie illiquide | CL2: Canada | CN2: Actifs au titre des contrats de réassurance détenus (-) | CP2: Niveau de confiance des ajustements au titre du risque à l’échelle de l’entité (en %) | CT2: Valeur actualisée des flux de trésorerie futurs
A3: (a) Actifs au titre des contrats d'assurance (relevé LF1 – tableau 20002, ligne 170, colonne 01) | C3: États-Unis | E3: Entité (filiale ou succursale) 2 | G3: Assurance vie entière ou assurance vie mixte | I3: Changements apportés aux estimations des flux de trésorerie futurs | K3: Effets des changements dans la provision pour coût des garanties | M3: Modèle déterministe | O3: Méthode de la répartition des primes (MRP) | Q3: Apsar abkhaze [E] | S3: Flux de trésorerie qui varient en fonction des éléments sous-jacents | U3: TRA – Assurance vie universelle ou assurance vie universelle variable | W3: T100 | Y3: Quote-part | AB3: Prêts hypothécaires | AD3: Juste valeur par le biais du résultat net (JVRN) | AF3: Rendement réel ou attendu – Dividendes ou produits | AH3: Excédent du sous-compte redressé, début de l’exercice | AJ3: b. Nom du cabinet d’experts-conseils | AL3: Test de suffisance du capital des sociétés d’assurance vie (TSAV) ou test de suffisance de la marge d’assurance vie (TSMAV) | AN3: Complet | AP3: Postérieur | AR3: Nette | AT3: 2. Approche fondée sur le coût du capital | AV3: 2 | AX3: 2 | AZ3: 2 | BB3: 2 | BD3: 2 | BF3: 2. Contrats de réassurance détenus | BH3: Coût des garanties | BJ3: Morbidité | BL3: Ajustement au titre du risque total | BN3: T2 | BP3: 2 | BR3: IFRS 15 | BT3: 2 | BV3: 2 | BX3: 2 | BZ3: 2 | CB3: Taux du coût du capital (en %) | CD3: 2. Nouveaux contrats – groupes de contrats qui n’ont pas de possibilité importante de devenir déficitaires | CF3: Valeur des comptes | CH3: Moins 50 points de base nets sur la courbe des taux d’actualisation | CJ3: 2. Somme de toutes les catégories de liquidité intermédiaires | CL3: États-Unis | CN3: Passifs au titre des contrats de réassurance détenus (+) | CP3: Niveau de confiance des ajustements au titre du risque à l’échelle du Canada (en %) | CT3: Ajustement au titre du risque
A4: (b) Actifs au titre des contrats de réassurance détenus (relevé LF1 – tableau 20002, ligne 180, colonne 01) | C4: Afghanistan | E4: Entité (filiale ou succursale) 3 | G4: Assurance vie entière ou assurance vie mixte ajustable | I4: Changements apportés à l’ajustement au titre du risque non financier (p. ex., modification des marges si l’approche fondée sur la marge est choisie, modification du taux du coût du capital si l’approche fondée sur le coût du capital est choisie) | K4: Changements apportés au modèle stochastique s'il est utilisé aux fins de l’évaluation | M4: Autre | O4: Méthode des frais variables (MFV) | Q4: Ariary malgache | S4: Autre | U4: TRA – Assurance vie collective | W4: Assurance vie entière ou assurance vie mixte | Y4: Excédent de sinistres | AB4: Actions | AD4: Juste valeur par le biais des autres éléments du résultat global (JVAERG) | AF4: Rendement réel ou attendu – Gain en capital ou croissance | AH4: Intérêt résiduel du sous-compte, début de l’exercice | AJ4: c. Examen limité ou complet? | AT4: 3. Niveau de confiance | AV4: 3 | AX4: 3 | AZ4: 3 | BB4: 3 | BD4: 3 | BF4: 3. Contrats d’investissement avec PD (participation discrétionnaire) | BH4: Ajustement au titre du risque | BJ4: Amélioration de la mortalité | BL4: Passifs (+) ou actifs (-) au titre des contrats d’assurance | BN4: T3 | BR4: Autre | BX4: 3 | CB4: Taux d’actualisation (en %) | CD4: 3. Nouveaux contrats – groupes constitués des autres contrats | CF4: Prime unique | CH4: Plus 50 points de base nets sur la courbe des taux d’actualisation | CJ4: 3. Catégorie liquide | CL4: Autres régions | CP4: Base du niveau de confiance – avant ou après déduction de la réassurance | CT4: Marge sur services contractuels
A5: (c) Passifs au titre des contrats d'assurance – excluant les fonds distincts (relevé LF1 – tableau 20004, ligne 150, colonne 01) | C5: Afrique du Sud | E5: Entité (filiale ou succursale) 4 | G5: Autre assurance ajustable | I5: Changements découlant de circonstances spéciales, particulières ou ponctuelles (p. ex., nouvelles normes, changement de méthode) | K5: Changements de taux d’actualisation au cours de la période non observable – méthode d’interpolation | M5: Sans objet | Q5: Baht thaïlandais | U5: TRA – Assurance vie temporaire | W5: Assurance vie entière ou assurance vie mixte ajustable | Y5: Coassurance avec retenue de fonds | AB5: Actions de sociétés ouvertes | AD5: Évalué au prix coûtant | AF5: Rendement total réel ou attendu | AH5: Redressement de la valeur des devises | AJ5: d. Examen antérieur ou postérieur à la diffusion? | AX5: 4 | AZ5: 4 | BB5: 4 | BD5: 4 | BH5: Marge sur services contractuels | BJ5: Amélioration de la morbidité | BN5: T4 | BX5: 4 | CD5: 4. Tous les contrats à la clôture de l’exercice en cours | CF5: Prime annualisée – renouvellement | CH5: Utilisation de la courbe de l’ICA de décembre de l'année en cours | CP5: Technique d’estimation de l’ajustement au titre du risque
